BEGIN:VCALENDAR
VERSION:2.0
PRODID:-//185.2.67.12//NONSGML kigkonsult.se iCalcreator 2.20//
CALSCALE:GREGORIAN
METHOD:PUBLISH
X-WR-CALNAME:Kilglass
X-WR-CALDESC:School
X-FROM-URL:http://kilglassns.ie
X-WR-TIMEZONE:Europe/Dublin
BEGIN:VTIMEZONE
TZID:Europe/Dublin
X-LIC-LOCATION:Europe/Dublin
BEGIN:STANDARD
DTSTART:20171029T020000
TZOFFSETFROM:+0100
TZOFFSETTO:+0000
TZNAME:GMT
END:STANDARD
BEGIN:DAYLIGHT
DTSTART:20180325T010000
TZOFFSETFROM:+0000
TZOFFSETTO:+0100
TZNAME:IST
END:DAYLIGHT
END:VTIMEZONE
BEGIN:VEVENT
UID:ai1ec-458@kilglassns.ie
DTSTAMP:20171107T175644Z
CATEGORIES:
CONTACT:
DESCRIPTION:School Closure
DTSTART;VALUE=DATE:20170328
DTEND;VALUE=DATE:20170329
SEQUENCE:0
SUMMARY:Primary Language Curriculum CPD
URL:http://kilglassns.ie/event/primary-language-curriculum-cpd/
X-COST-TYPE:free
X-ALT-DESC;FMTTYPE=text/html:<!DOCTYPE HTML PUBLIC '-//W3C//DTD HTML 3.2//E
 N'>\\n<HTML>\\n<HEAD>\\n<TITLE></TITLE>\\n</HEAD>\\n<BODY><p>School Closur
 e</p>\n</BODY></HTML>
END:VEVENT
END:VCALENDAR
