BEGIN:VCALENDAR
VERSION:2.0
PRODID:-//185.2.67.12//NONSGML kigkonsult.se iCalcreator 2.20//
CALSCALE:GREGORIAN
METHOD:PUBLISH
X-WR-CALNAME:Kilglass
X-WR-CALDESC:School
X-FROM-URL:http://kilglassns.ie
X-WR-TIMEZONE:Europe/Dublin
BEGIN:VTIMEZONE
TZID:Europe/Dublin
X-LIC-LOCATION:Europe/Dublin
BEGIN:STANDARD
DTSTART:20171029T020000
TZOFFSETFROM:+0100
TZOFFSETTO:+0000
TZNAME:GMT
END:STANDARD
BEGIN:DAYLIGHT
DTSTART:20180325T010000
TZOFFSETFROM:+0000
TZOFFSETTO:+0100
TZNAME:IST
END:DAYLIGHT
END:VTIMEZONE
BEGIN:VEVENT
UID:ai1ec-454@kilglassns.ie
DTSTAMP:20171107T180308Z
CATEGORIES:
CONTACT:
DESCRIPTION:
DTSTART;TZID=Europe/Dublin:20161028T180000
DTEND;TZID=Europe/Dublin:20161028T200000
LOCATION:Kilglass N.S.
SEQUENCE:0
SUMMARY:Hallowe’en Disco
URL:http://kilglassns.ie/event/halloween-disco/
X-COST-TYPE:free
END:VEVENT
END:VCALENDAR
