BEGIN:VCALENDAR
VERSION:2.0
PRODID:-//185.2.67.12//NONSGML kigkonsult.se iCalcreator 2.20//
CALSCALE:GREGORIAN
METHOD:PUBLISH
X-WR-CALNAME:Kilglass
X-WR-CALDESC:School
X-FROM-URL:http://kilglassns.ie
X-WR-TIMEZONE:Europe/Dublin
BEGIN:VTIMEZONE
TZID:Europe/Dublin
X-LIC-LOCATION:Europe/Dublin
BEGIN:STANDARD
DTSTART:20171029T020000
TZOFFSETFROM:+0100
TZOFFSETTO:+0000
TZNAME:GMT
END:STANDARD
BEGIN:DAYLIGHT
DTSTART:20180325T010000
TZOFFSETFROM:+0000
TZOFFSETTO:+0100
TZNAME:IST
END:DAYLIGHT
END:VTIMEZONE
BEGIN:VEVENT
UID:ai1ec-298@kilglassns.ie
DTSTAMP:20171107T180235Z
CATEGORIES:
CONTACT:
DESCRIPTION:There will be a Fundraising Concert for Kilglass National Schoo
 l in the Church of the Holy Family on Friday 21st October 2016 at 8.00p.m.
   Children from the school\, past pupils\, members of Tíreragh Comhaltas\,
  Junior Davey and other musicians will be performing on the night.  Ticket
 s are €10 and will be sold door to door or from the school.  Any enquiries
  please ring the school office.  Thanking you. Kilglass B.O.M.
DTSTART;TZID=Europe/Dublin:20161021T200000
LOCATION:Church of the Holy Family
SEQUENCE:0
SUMMARY:Fundraising Concert Kilglass N.S.
URL:http://kilglassns.ie/event/fundraising-concert-kilglass-national-school
 /
X-COST-TYPE:free
X-ALT-DESC;FMTTYPE=text/html:<!DOCTYPE HTML PUBLIC '-//W3C//DTD HTML 3.2//E
 N'>\\n<HTML>\\n<HEAD>\\n<TITLE></TITLE>\\n</HEAD>\\n<BODY><p>There will be
  a Fundraising Concert for Kilglass National School in the Church of the H
 oly Family on Friday 21st October 2016 at 8.00p.m.  Children from the scho
 ol\, past pupils\, members of Tíreragh Comhaltas\, Junior Davey and other 
 musicians will be performing on the night.  Tickets are €10 and will be so
 ld door to door or from the school.  Any enquiries please ring the school 
 office.  Thanking you. Kilglass B.O.M.</p>\n</BODY></HTML>
X-INSTANT-EVENT:1
END:VEVENT
END:VCALENDAR
